BEGIN:VCALENDAR
VERSION:2.0
PRODID:-//Tulsa REALTORS® - ECPv6.15.20//NONSGML v1.0//EN
CALSCALE:GREGORIAN
METHOD:PUBLISH
X-WR-CALNAME:Tulsa REALTORS®
X-ORIGINAL-URL:https://tulsarealtors.com
X-WR-CALDESC:Events for Tulsa REALTORS®
REFRESH-INTERVAL;VALUE=DURATION:PT1H
X-Robots-Tag:noindex
X-PUBLISHED-TTL:PT1H
BEGIN:VTIMEZONE
TZID:UTC
BEGIN:STANDARD
TZOFFSETFROM:+0000
TZOFFSETTO:+0000
TZNAME:UTC
DTSTART:20250101T000000
END:STANDARD
END:VTIMEZONE
BEGIN:VEVENT
DTSTART;TZID=UTC:20260423T130000
DTEND;TZID=UTC:20260423T160000
DTSTAMP:20260423T014454
CREATED:20260220T164319Z
LAST-MODIFIED:20260220T164319Z
UID:14173-1776949200-1776960000@tulsarealtors.com
SUMMARY:Price it Right!
DESCRIPTION:NON-MEMBER COST: $30\nMEMBER COST: FREE \nINSTRUCTED BY: Jennifer Arsenault \nThis course provides an in-depth exploration of market analysis techniques using MLS data\, RPR\, and Realist to create precise property valuations. Students will learn how to select the most relevant comparables\, apply adjustments with appraisal-based reasoning\, and interpret market trends to support pricing strategies. Students will have the skills to conduct data-driven\, defensible market analyses that stand up to scrutiny from lenders\, appraisers\, and clients alike.  \nREGISTER HERE
URL:https://tulsarealtors.com/calendar/price-it-right/
CATEGORIES:GTAR Class
END:VEVENT
END:VCALENDAR