BEGIN:VCALENDAR
VERSION:2.0
PRODID:-//Tulsa REALTORS® - ECPv6.15.20//NONSGML v1.0//EN
CALSCALE:GREGORIAN
METHOD:PUBLISH
X-WR-CALNAME:Tulsa REALTORS®
X-ORIGINAL-URL:https://tulsarealtors.com
X-WR-CALDESC:Events for Tulsa REALTORS®
REFRESH-INTERVAL;VALUE=DURATION:PT1H
X-Robots-Tag:noindex
X-PUBLISHED-TTL:PT1H
BEGIN:VTIMEZONE
TZID:UTC
BEGIN:STANDARD
TZOFFSETFROM:+0000
TZOFFSETTO:+0000
TZNAME:UTC
DTSTART:20250101T000000
END:STANDARD
END:VTIMEZONE
BEGIN:VEVENT
DTSTART;TZID=UTC:20260422T090000
DTEND;TZID=UTC:20260422T160000
DTSTAMP:20260422T031350
CREATED:20260220T164317Z
LAST-MODIFIED:20260220T164317Z
UID:14172-1776848400-1776873600@tulsarealtors.com
SUMMARY:Contracts
DESCRIPTION:NON-MEMBER COST: $75\nMEMBER COST: FFREE \nINSTRUCTED BY: Royce Ellington  \nThis course offers a detailed overview of the essential real estate forms\, focusing on proper completion\, updates\, and compliance. Students will gain practical knowledge and learn how to effectively prepare offers and listing agreements.  \nREGISTER HERE
URL:https://tulsarealtors.com/calendar/contracts-5/
CATEGORIES:GTAR Class
END:VEVENT
END:VCALENDAR